BEGIN:VCALENDAR
VERSION:2.0
PRODID:-//Bürgerstiftung für Haan  &amp; Gruiten - ECPv6.15.20//NONSGML v1.0//EN
CALSCALE:GREGORIAN
METHOD:PUBLISH
X-WR-CALNAME:Bürgerstiftung für Haan  &amp; Gruiten
X-ORIGINAL-URL:https://buergerstiftung-haan-gruiten.de
X-WR-CALDESC:Veranstaltungen für Bürgerstiftung für Haan  &amp; Gruiten
REFRESH-INTERVAL;VALUE=DURATION:PT1H
X-Robots-Tag:noindex
X-PUBLISHED-TTL:PT1H
BEGIN:VTIMEZONE
TZID:Europe/Berlin
BEGIN:DAYLIGHT
TZOFFSETFROM:+0100
TZOFFSETTO:+0200
TZNAME:CEST
DTSTART:20250330T010000
END:DAYLIGHT
BEGIN:STANDARD
TZOFFSETFROM:+0200
TZOFFSETTO:+0100
TZNAME:CET
DTSTART:20251026T010000
END:STANDARD
BEGIN:DAYLIGHT
TZOFFSETFROM:+0100
TZOFFSETTO:+0200
TZNAME:CEST
DTSTART:20260329T010000
END:DAYLIGHT
BEGIN:STANDARD
TZOFFSETFROM:+0200
TZOFFSETTO:+0100
TZNAME:CET
DTSTART:20261025T010000
END:STANDARD
BEGIN:DAYLIGHT
TZOFFSETFROM:+0100
TZOFFSETTO:+0200
TZNAME:CEST
DTSTART:20270328T010000
END:DAYLIGHT
BEGIN:STANDARD
TZOFFSETFROM:+0200
TZOFFSETTO:+0100
TZNAME:CET
DTSTART:20271031T010000
END:STANDARD
END:VTIMEZONE
BEGIN:VEVENT
DTSTART;TZID=Europe/Berlin:20260625T150000
DTEND;TZID=Europe/Berlin:20260625T170000
DTSTAMP:20260424T100657
CREATED:20260224T112915Z
LAST-MODIFIED:20260224T112915Z
UID:2859-1782399600-1782406800@buergerstiftung-haan-gruiten.de
SUMMARY:Ehrenamtstreffen im Backhaus Gruiten
DESCRIPTION:Wir laden unsere ehrenamtlichen Helferinnen und Helfer zu einem geselligen Nachmittag ins Backhaus in Gruiten ein.
URL:https://buergerstiftung-haan-gruiten.de/event/ehrenamtstreffen-im-backhaus-gruiten/
LOCATION:Backhaus Gruiten\, Am Quall 12\, Haan\, 42781
END:VEVENT
END:VCALENDAR