BEGIN:VCALENDAR
VERSION:2.0
PRODID:-//Bürgerstiftung für Haan  &amp; Gruiten - ECPv6.15.20//NONSGML v1.0//EN
CALSCALE:GREGORIAN
METHOD:PUBLISH
X-ORIGINAL-URL:https://buergerstiftung-haan-gruiten.de
X-WR-CALDESC:Veranstaltungen für Bürgerstiftung für Haan  &amp; Gruiten
REFRESH-INTERVAL;VALUE=DURATION:PT1H
X-Robots-Tag:noindex
X-PUBLISHED-TTL:PT1H
BEGIN:VTIMEZONE
TZID:Europe/Berlin
BEGIN:DAYLIGHT
TZOFFSETFROM:+0100
TZOFFSETTO:+0200
TZNAME:CEST
DTSTART:20250330T010000
END:DAYLIGHT
BEGIN:STANDARD
TZOFFSETFROM:+0200
TZOFFSETTO:+0100
TZNAME:CET
DTSTART:20251026T010000
END:STANDARD
BEGIN:DAYLIGHT
TZOFFSETFROM:+0100
TZOFFSETTO:+0200
TZNAME:CEST
DTSTART:20260329T010000
END:DAYLIGHT
BEGIN:STANDARD
TZOFFSETFROM:+0200
TZOFFSETTO:+0100
TZNAME:CET
DTSTART:20261025T010000
END:STANDARD
BEGIN:DAYLIGHT
TZOFFSETFROM:+0100
TZOFFSETTO:+0200
TZNAME:CEST
DTSTART:20270328T010000
END:DAYLIGHT
BEGIN:STANDARD
TZOFFSETFROM:+0200
TZOFFSETTO:+0100
TZNAME:CET
DTSTART:20271031T010000
END:STANDARD
END:VTIMEZONE
BEGIN:VEVENT
DTSTART;VALUE=DATE:20260502
DTEND;VALUE=DATE:20260510
DTSTAMP:20260422T103403
CREATED:20260218T105947Z
LAST-MODIFIED:20260406T143304Z
UID:2804-1777680000-1778371199@buergerstiftung-haan-gruiten.de
SUMMARY:"Mitte.Haan"
DESCRIPTION:Vom 2.5.2026 bis 9.5.2026 koordiniert die Bürgerstiftung verschiedene Veranstaltungen zum Thema „Klima\, Arten und Umwelt“  in den Räumlichkeiten von „Mitte.Haan“ verschiedene Veranstaltungen.\nAm 2.5.\, 6.5. sowie 9.5.\, jeweils von 10.00 Uhr bis 13.00 Uhr können Sie unser Team persönlich besuchen.
URL:https://buergerstiftung-haan-gruiten.de/event/mitte-haan/
LOCATION:Kaiserstraße 12\, Haan\, Kaiserstraße 12\, Haan\, 42781\, Germany
CATEGORIES:Jubiläum 2026,Klima,Netzwerk,Umwelt
END:VEVENT
END:VCALENDAR