BEGIN:VCALENDAR
VERSION:2.0
PRODID:-//Bürgerstiftung für Haan  &amp; Gruiten - ECPv6.15.20//NONSGML v1.0//EN
CALSCALE:GREGORIAN
METHOD:PUBLISH
X-ORIGINAL-URL:https://buergerstiftung-haan-gruiten.de
X-WR-CALDESC:Veranstaltungen für Bürgerstiftung für Haan  &amp; Gruiten
REFRESH-INTERVAL;VALUE=DURATION:PT1H
X-Robots-Tag:noindex
X-PUBLISHED-TTL:PT1H
BEGIN:VTIMEZONE
TZID:Europe/Berlin
BEGIN:DAYLIGHT
TZOFFSETFROM:+0100
TZOFFSETTO:+0200
TZNAME:CEST
DTSTART:20250330T010000
END:DAYLIGHT
BEGIN:STANDARD
TZOFFSETFROM:+0200
TZOFFSETTO:+0100
TZNAME:CET
DTSTART:20251026T010000
END:STANDARD
BEGIN:DAYLIGHT
TZOFFSETFROM:+0100
TZOFFSETTO:+0200
TZNAME:CEST
DTSTART:20260329T010000
END:DAYLIGHT
BEGIN:STANDARD
TZOFFSETFROM:+0200
TZOFFSETTO:+0100
TZNAME:CET
DTSTART:20261025T010000
END:STANDARD
BEGIN:DAYLIGHT
TZOFFSETFROM:+0100
TZOFFSETTO:+0200
TZNAME:CEST
DTSTART:20270328T010000
END:DAYLIGHT
BEGIN:STANDARD
TZOFFSETFROM:+0200
TZOFFSETTO:+0100
TZNAME:CET
DTSTART:20271031T010000
END:STANDARD
END:VTIMEZONE
BEGIN:VEVENT
DTSTART;TZID=Europe/Berlin:20260228T150000
DTEND;TZID=Europe/Berlin:20260228T170000
DTSTAMP:20260424T111058
CREATED:20260114T151152Z
LAST-MODIFIED:20260224T112507Z
UID:2521-1772290800-1772298000@buergerstiftung-haan-gruiten.de
SUMMARY:Café International
DESCRIPTION:Hier finden neue und alte Haaner zueinander\, entwickeln neue Ideen und finden neue Freunde. Jeder und jede ist herzlich willkommen.
URL:https://buergerstiftung-haan-gruiten.de/event/cafe-international/
LOCATION:Haus an der Kirche\, Kaiserstr. 40\, Haan\, Bundesstaat wählen:\, 42781\, Germany
CATEGORIES:Integration,Neu-Bürger von Haan
END:VEVENT
END:VCALENDAR